BEGIN:VCALENDAR
VERSION:2.0
PRODID:Events Booking
BEGIN:VEVENT
UID:69e5e8de80bc6
SUMMARY:IHHT-Anwendungen auf den Punkt gebracht
DESCRIPTION:Fortbildung Bad Wörishofen
 Intervall-Hypoxie-Hyperoxie-Thera
 pie (IHHT)
 Die praxisorientierte Schulung vermittelt fundiertes Wissen z
 ur Zustandsbewertung\, Therapieplanung und gezielten Steuerung von IHHT‑
 Anwendungen. Die Fortbildung richtet sich an Therapeut:innen\, Ärzt:innen
  und medizinisch‑therapeutisches Fachpersonal mit IHHT‑Grundkenntnisse
 n.
LOCATION:Hermann-Aust-Straße 11\, Bad Wörishofen\, 86825 Bayern\, Deutsch
 land
DTSTART:20261015T080000Z
DTEND:20261015T160000Z
DTSTAMP:20251204T131823Z
ORGANIZER;CN=Deutsche Gesellschaft für Ernährung & Sport - DG-ES:MAILTO:i
 nfo@dg-es.de
GEO:48.001802;10.584513
X-APPLE-STRUCTURED-LOCATION;VALUE=URI;X-ADDRESS=Hermann-Aust-Straße 11\, B
 ad Wörishofen\, 86825 Bayern\, Deutschland;X-APPLE-RADIUS=72;X-TITLE=Hote
 l Der Sonnenhof – Tagungszentrum INSPIRA:48.001802;10.584513
END:VEVENT
END:VCALENDAR